BEGIN:VCALENDAR
VERSION:2.0
PRODID:-//Squarespace Inc/Squarespace 6//v6//EN
BEGIN:VEVENT
UID:555a9638e4b0aa1e832c52d2@squarespace.com
DTSTAMP:20161207T054937Z
DTSTART:20150819T000000Z
DTEND:20150821T090000Z
SUMMARY:2015 GIO Wheelchair Rugby Championships - Sydney
GEO:-33.853411;151.069375
LOCATION:Sydney Olympic Park Sports Centre\, Australia
END:VEVENT
END:VCALENDAR
