BEGIN:VCALENDAR
VERSION:2.0
PRODID:-//Squarespace Inc/Squarespace 6//v6//EN
BEGIN:VEVENT
UID:56e62b1737013b50c08e3f9c@squarespace.com
DTSTAMP:20161207T054206Z
DTSTART:20160415T043000Z
DTEND:20160417T053000Z
SUMMARY:2016 Fierce 4 Rugby Brisbane Challenge
GEO:-27.543263;153.116245
LOCATION:Eagles Sports Complex\, 4 Weedon St\, Mansfield\, QLD\, 4122\, Aus
 tralia
END:VEVENT
END:VCALENDAR
