BEGIN:VCALENDAR
VERSION:2.0
PRODID:-//Squarespace Inc/Squarespace 6//v6//EN
BEGIN:VEVENT
UID:5806ea3cb3db2b7c74178194@squarespace.com
DTSTAMP:20170618T112428Z
DTSTART:20170616T000000Z
DTEND:20170618T070000Z
SUMMARY:2017 Fierce 4 Rugby Challenge Gold Coast\, QLD
GEO:-27.865832;153.319276
LOCATION:Coomera Indoor Sports Centre\, 35 Beattie Rd\, Coomera\, QLD\, 420
 9\, Australia
END:VEVENT
END:VCALENDAR
