BEGIN:VCALENDAR
VERSION:2.0
PRODID:-//Squarespace Inc/Squarespace 6//v6//EN
BEGIN:VEVENT
UID:58479dce2994ca88da6eeacc@squarespace.com
DTSTAMP:20170808T032549Z
DTSTART:20170801T230000Z
DTEND:20170805T120000Z
SUMMARY:2017 GIO Wheelchair Rugby National Championship and GIO 2018 IWRF W
 heelchair Rugby World Championship Official Test Event
GEO:-33.850576;151.066983
LOCATION:Sydney Olympic Park Sports Centre\, Sydney\, NSW\, 2127\, Australi
 a
END:VEVENT
END:VCALENDAR
