BEGIN:VCALENDAR
VERSION:2.0
PRODID:-//Squarespace Inc/Squarespace 6//v6//EN
BEGIN:VEVENT
UID:59d2d602b7411c5e58016799@squarespace.com
DTSTAMP:20171003T005732Z
DTSTART:20171005T230000Z
DTEND:20171007T080000Z
SUMMARY:2017 Victorian Wheelchair Rugby Classic
END:VEVENT
END:VCALENDAR
