BEGIN:VCALENDAR
VERSION:2.0
PRODID:-//Squarespace Inc/Squarespace 6//v6//EN
BEGIN:VEVENT
UID:5dad25d8c8d49d796d06b79f@squarespace.com
DTSTAMP:20191021T035852Z
DTSTART:20191101T000000Z
DTEND:20191102T060000Z
SUMMARY:2019 Victorian Wheelchair Rugby Classic 
GEO:-37.996114;145.154175
LOCATION:Springers Leisure Centre\, 400 Cheltenham Rd\, Keysborough\, VIC\, 
 3173\, Australia
END:VEVENT
END:VCALENDAR
