BEGIN:VCALENDAR
VERSION:2.0
PRODID:-//Squarespace Inc/Squarespace 6//v6//EN
BEGIN:VEVENT
UID:5dbba1412fd975438d4ccdee@squarespace.com
DTSTAMP:20200129T015001Z
DTSTART:20200402T220000Z
DTEND:20200405T070000Z
SUMMARY:Wheelchair Rugby National League Round 1 - Queensland Bash
GEO:-27.342223;153.070396
LOCATION:Brisbane Entertainment Centre\, 1 Melaleuca Dr\, Boondall\, QLD\, 
 4034\, Australia
END:VEVENT
END:VCALENDAR
