BEGIN:VCALENDAR
VERSION:2.0
PRODID:-//Squarespace Inc/Squarespace 6//v6//EN
BEGIN:VEVENT
UID:5dbbaf00a411c37a0075f1e7@squarespace.com
DTSTAMP:20200129T015027Z
DTSTART:20200416T230000Z
DTEND:20200419T080000Z
SUMMARY:Wheelchair Rugby National League Round 2 - Sydney Slam
GEO:-33.853299;151.070246
LOCATION:Genea Netball Centre\, 2 Olympic Blvd\, Sydney Olympic Park\, NSW\
 , 2127\, Australia
END:VEVENT
END:VCALENDAR
