BEGIN:VCALENDAR
VERSION:2.0
PRODID:-//Squarespace Inc/Squarespace 6//v6//EN
BEGIN:VEVENT
UID:5dbbb03e2fd975438d4db0a8@squarespace.com
DTSTAMP:20200129T015051Z
DTSTART:20200430T230000Z
DTEND:20200503T080000Z
SUMMARY:Wheelchair Rugby National League Round 3 - Melbourne Invitational
GEO:-37.732949;144.738726
LOCATION:Caroline Springs Leisure Centre\, 9 The Parade\, Caroline Springs\
 , VIC\, 3023\, Australia
END:VEVENT
END:VCALENDAR
