BEGIN:VCALENDAR
VERSION:2.0
PRODID:-//Squarespace Inc/Squarespace 6//v6//EN
BEGIN:VEVENT
UID:5de82bf8c09a8973f9c91412@squarespace.com
DTSTAMP:20191205T010110Z
DTSTART:20200528T230000Z
DTEND:20200531T090000Z
SUMMARY:2020 GIO Wheelchair Rugby National Championship
GEO:-28.004379;153.364044
LOCATION:Gold Coast Sport and Leisure Centre\, 296 Nerang Broadbeach Rd\, C
 arrara\, QLD\, 4211\, Australia
END:VEVENT
END:VCALENDAR
