BEGIN:VCALENDAR
VERSION:2.0
PRODID:-//Squarespace Inc/Squarespace 6//v6//EN
BEGIN:VEVENT
UID:5a9f9701652dea8c73b1dff2@squarespace.com
DTSTAMP:20180307T075139Z
DTSTART:20180309T060000Z
DTEND:20180311T020000Z
SUMMARY:2018 Canberra Classic in association with Vikings Group
GEO:-35.415734;149.063266
LOCATION:Southern Cross Basketball Stadium\, 7 Pitman St\, Greenway\, ACT\, 
 2900\, Australia
END:VEVENT
END:VCALENDAR
