BEGIN:VCALENDAR
VERSION:2.0
PRODID:-//Squarespace Inc/Squarespace 6//v6//EN
BEGIN:VEVENT
UID:5acbfb202b6a289d08f9ce7b@squarespace.com
DTSTAMP:20180409T235056Z
DTSTART:20180505T000000Z
DTEND:20180507T070000Z
SUMMARY:Wheelchair Rugby BASH
GEO:-26.772149;153.13289
LOCATION:Sunshine Coast Recreation Centre
END:VEVENT
END:VCALENDAR
