BEGIN:VCALENDAR
VERSION:2.0
PRODID:-//Squarespace Inc/Squarespace 6//v6//EN
BEGIN:VEVENT
UID:555aa449e4b0b0825df30912@squarespace.com
DTSTAMP:20150602T044951Z
DTSTART:20150327T230000Z
DTEND:20150330T060000Z
SUMMARY:Fierce 4 Rugby Challenge - Brisbane
END:VEVENT
END:VCALENDAR
