BEGIN:VCALENDAR
VERSION:2.0
PRODID:-//Squarespace Inc/Squarespace 6//v6//EN
BEGIN:VEVENT
UID:555a96fce4b0146a88bab3a0@squarespace.com
DTSTAMP:20150623T030728Z
DTSTART:20150619T000000Z
DTEND:20150621T090000Z
SUMMARY:Fierce 4 Rugby Challenge - Melbourne
GEO:-37.73278;144.738676
LOCATION:Caroline Springs Leisure Centre\, 9-19 The Parade\, Caroline Sprin
 gs\, VIC\, 3023\, Australia
END:VEVENT
END:VCALENDAR
