BEGIN:VCALENDAR
VERSION:2.0
PRODID:-//Squarespace Inc/Squarespace 6//v6//EN
BEGIN:VEVENT
UID:56e63172c2ea51482ff35307@squarespace.com
DTSTAMP:20191205T014900Z
DTSTART:20160706T230000Z
DTEND:20160709T080000Z
SUMMARY:2016 GIO Fierce 4 Rugby Nationals Sydney
GEO:-33.853676;151.070197
LOCATION:Netball Central\, 1 Olympic Blvd\, Sydney Olympic Park\, NSW\, 212
 7\, Australia
END:VEVENT
END:VCALENDAR
