BEGIN:VCALENDAR
VERSION:2.0
PRODID:-//Squarespace Inc/Squarespace 6//v6//EN
BEGIN:VEVENT
UID:56cd1bf78259b5c112b82ff6@squarespace.com
DTSTAMP:20161207T054223Z
DTSTART:20160311T000000Z
DTEND:20160313T040000Z
SUMMARY:2016 Fierce 4 Rugby Melbourne Challenge
GEO:-37.73263;144.738707
LOCATION:Caroline Springs Leisure Centre\, The Parade\, Caroline Springs\, 
 VIC\, 3023\, Australia
END:VEVENT
END:VCALENDAR
