BEGIN:VCALENDAR
VERSION:2.0
PRODID:-//Squarespace Inc/Squarespace 6//v6//EN
BEGIN:VEVENT
UID:5806e9561b631b37ff441c09@squarespace.com
DTSTAMP:20170614T021435Z
DTSTART:20170309T230000Z
DTEND:20170312T060000Z
SUMMARY:2017 Fierce 4 Rugby Challenge Canberra\, ACT
GEO:-35.414972;149.062941
LOCATION:Southern Cross Basketball Stadium\, 22 Cowlishaw St\, Greenway\, A
 CT\, 2900\, Australia
END:VEVENT
END:VCALENDAR
