BEGIN:VCALENDAR
VERSION:2.0
PRODID:-//Squarespace Inc/Squarespace 6//v6//EN
BEGIN:VEVENT
UID:5806e9e1c534a5bab1dc0f50@squarespace.com
DTSTAMP:20170430T032805Z
DTSTART:20170428T000000Z
DTEND:20170430T070000Z
SUMMARY:2017 Fierce 4 Rugby Challenge Melbourne\, VIC
GEO:-37.732999;144.738629
LOCATION:Caroline Springs Leisure Centre
END:VEVENT
END:VCALENDAR
