BEGIN:VCALENDAR
VERSION:2.0
PRODID:-//Squarespace Inc/Squarespace 6//v6//EN
BEGIN:VEVENT
UID:5acbfc84352f53a44f2c077b@squarespace.com
DTSTAMP:20181008T224415Z
DTSTART:20181005T000000Z
DTEND:20181007T060000Z
SUMMARY:2018 GIO Wheelchair Rugby National Championship
GEO:-33.754407;150.735021
LOCATION:Penrith Valley Regional Sports Centre\, 30 Herbert Street\, Cambri
 dge Park\, NSW\, 2747\, Australia
END:VEVENT
END:VCALENDAR
