BEGIN:VCALENDAR
VERSION:2.0
PRODID:-//Squarespace Inc/Squarespace 6//v6//EN
BEGIN:VEVENT
UID:5873142917bffcf918a06a66@squarespace.com
DTSTAMP:20170109T044432Z
DTSTART:20180804T230000Z
DTEND:20180810T120000Z
SUMMARY:2018 GIO IWRC Wheelchair Rugby World Championship
GEO:-33.853346;151.069373
LOCATION:Sarah Durack Ave\, Sydney Olympic Park\, NSW\, 2127\, Australia
END:VEVENT
END:VCALENDAR
