BEGIN:VCALENDAR
VERSION:2.0
PRODID:-//Squarespace Inc/Squarespace 6//v6//EN
BEGIN:VEVENT
UID:5c7346a44e17b6627ac09de7@squarespace.com
DTSTAMP:20190613T010525Z
DTSTART:20190628T000000Z
DTEND:20190630T090000Z
SUMMARY:2019 GIO Wheelchair Rugby National Championship
GEO:-33.853402;151.069375
LOCATION:Quaycentre\, 1 Olympic Blvd\, Sydney Olympic Park\, NSW\, 2127\, A
 ustralia
END:VEVENT
END:VCALENDAR
