BEGIN:VCALENDAR
VERSION:2.0
PRODID:-//Squarespace Inc/Squarespace 6//v6//EN
BEGIN:VEVENT
UID:5acbf6141ae6cf686a173aff@squarespace.com
DTSTAMP:20180419T012832Z
DTSTART:20180412T233000Z
DTEND:20180415T040000Z
SUMMARY:Melbourne Wheelchair Rugby Invitational
GEO:-37.732999;144.738629
LOCATION:Caroline Springs Leisure Centre
END:VEVENT
END:VCALENDAR
